BEGIN:VCALENDAR
VERSION:2.0
PRODID:-//wp-events-plugin.com//7.2.3.1//EN
TZID:Europe/Berlin
X-WR-TIMEZONE:Europe/Berlin
BEGIN:VEVENT
UID:0-608@internet-beratung-koeln.de
DTSTART;TZID=Europe/Berlin:20261107T110000
DTEND;TZID=Europe/Berlin:20261107T133000
DTSTAMP:20260423T093805Z
URL:https://internet-beratung-koeln.de/termine/demokratie-und-die-mitwirku
 ng-von-frauen/
SUMMARY:Demokratie und die Mitwirkung von Frauen
DESCRIPTION:Mehr als die Hälfte der Bevölkerung ist weiblich bzw. nicht-m
 ännlich. Mit einem Frauenanteil von 45\,6 % ist der Kölner Rat schon rec
 ht gut dabei. Im Landtag NRW sind es 35\,4 % und im Bundestag 32\,4 %. Fra
 uen beteiligen sich hierzulande zwar etwas mehr an Wahlen als Männer\, ab
 er Politik wird leider immer noch hauptsächlich von Männern gestaltet. U
 nd das nicht nur innerhalb der Parlamente\, sondern auch in Vereinen\, Ver
 bänden\, Initiativen etc. Aber die Lebenswirklichkeiten von Frauen sind v
 öllig anders. Daher müssen sie beteiligt werden\, sich beteiligen könne
 n!\n\nAn diesem Vormittag soll mit gestandenen und jüngeren Politikerinne
 n aus Parlamenten und Zivilgesellschaft ins Gespräch gekommen werden. Gem
 einsam soll herausgearbeit werden\, was über die Jahre gleichgeblieben is
 t\, was sich verändert hat\, welche Formen der politischen Arbeit praktiz
 iert wurden / werden und wie es gelingen kann\, dass mehr Frauen mitmische
 n.\n\nWie bei jedem AKF-Herbsttreffen ist danach noch Gelegenheit zum gege
 nseitigen Kennenlernen und Netzwerken.\n\nEintritt frei. Bitte den Eingang
  am Brunnen nutzen: Lageplan\n\nVeranstalterinnen:\n\n 	Arbeitskreis Köln
 er Frauenvereinigungen (AKF)\, Internet: www.akf-koeln.de\n 	Melanchthon-A
 kademie Köln\, Internet: www.melanchthon-akademie.de\n\nAnsprechpartnerin
 :\nDr. Marita Alami\, Tel.: 0221 / 1397550\, E-Mail: info@akf-koeln.de
ATTACH;FMTTYPE=image/jpeg:https://internet-beratung-koeln.de/wp-content/up
 loads/sites/4/2026/04/frauen-und-politik.png
LOCATION:Haus der Ev. Kirche\, Kartäusergasse 9\, 50678 Köln
GEO:50.924812;6.954403
X-APPLE-STRUCTURED-LOCATION;VALUE=URI;X-ADDRESS=Kartäusergasse 9\, Köln\,
  Nordrhein-Westfalen\, 50678\, Deutschland;X-APPLE-RADIUS=100;X-TITLE=Haus
  der Ev. Kirche:geo:50.924812,6.954403
END:VEVENT
BEGIN:VTIMEZONE
TZID:Europe/Berlin
X-LIC-LOCATION:Europe/Berlin
BEGIN:STANDARD
DTSTART:20261025T020000
TZOFFSETFROM:+0200
TZOFFSETTO:+0100
TZNAME:CET
END:STANDARD
END:VTIMEZONE
END:VCALENDAR