BEGIN:VCALENDAR
VERSION:2.0
PRODID:-//wp-events-plugin.com//7.2.3.1//EN
TZID:Europe/Berlin
X-WR-TIMEZONE:Europe/Berlin
BEGIN:VEVENT
UID:4-213@internet-beratung-koeln.de
DTSTART;TZID=Europe/Berlin:20150204T180000
DTEND;TZID=Europe/Berlin:20150204T190000
DTSTAMP:20150106T172453Z
URL:https://internet-beratung-koeln.de/termine/die-kunst-des-netzwerkens/
SUMMARY:Die Kunst des Netzwerkens
DESCRIPTION:Dass Netzwerke das Leben beruflich – wie auch privat – sehr
  erleichtern können\, ist inzwischen jeder klar. Frauen machen fleißig K
 ontakte\, treffen sich in beruflichen Netzwerken und tummeln sich bei Soci
 al-Media-Anbietern. Trotzdem gibt es ein paar Regeln und Hintergründe\, d
 ie es beim Netzwerken zu berücksichtigen gilt. 
ATTACH;FMTTYPE=image/jpeg:https://internet-beratung-koeln.de/wp-content/up
 loads/sites/4/2015/01/webinar-die-kunst-des-netzwerkens-e1411559147764.jpg
END:VEVENT
BEGIN:VTIMEZONE
TZID:Europe/Berlin
X-LIC-LOCATION:Europe/Berlin
BEGIN:STANDARD
DTSTART:20141026T020000
TZOFFSETFROM:+0200
TZOFFSETTO:+0100
TZNAME:CET
END:STANDARD
END:VTIMEZONE
END:VCALENDAR