BEGIN:VCALENDAR
VERSION:2.0
PRODID:-//wp-events-plugin.com//7.2.3.1//EN
TZID:Europe/Berlin
X-WR-TIMEZONE:Europe/Berlin
BEGIN:VEVENT
UID:0-553@internet-beratung-koeln.de
DTSTART;TZID=Europe/Berlin:20241005T110000
DTEND;TZID=Europe/Berlin:20241005T130000
DTSTAMP:20240626T144354Z
URL:https://internet-beratung-koeln.de/termine/die-verkannten-grundlagen-d
 er-oekonomie-wege-zu-einer-caring-economy/
SUMMARY:Die verkannten Grundlagen der Ökonomie – Wege zu einer Caring Ec
 onomy
DESCRIPTION:Vortrag und Diskussion\n\nEs gibt einen grundsätzlichen Konstr
 uktionsfehler in unserem Wirtschafts- und Gesellschaftssystem\, der so lan
 ge nicht weiter auffiel\, bis Menschen (immer noch meist Frauen) neben der
  Sorgearbeit für Kinder\, behinderte Menschen\, alte Menschen etc. auf de
 n Arbeitsmarkt drängten. Ist sie unbezahlt\, wird die Sorgearbeit als Pri
 vatsache marginalisiert und in der volkswirtschaftlichen Gesamtrechnung ve
 rgessen. Ist sie bezahlt\, wird sie ebenfalls geringgeschätzt und die daz
 u erforderlichen Kosten werden als Belastung für den Staat angesehen\, st
 att als notwendig Voraussetzung für eine florierende Wirtschaft.\nWie es 
 anders gehen kann\, zeigt die international anerkannte Systemwissenschaftl
 erin Riane Eisler in ihrem Buch „The Real Wealth of Nations“. 2020 ist
  eine deutsche Fassung erschienen mit dem Titel: „Die verkannten Grundla
 gen der Ökonomie\, Wege zu einer Caring Economy“. Die Initiatorin und 
 Übersetzerin der deutschen Fassung\, Ulrike Brandhorst\, wird an diesem V
 ormittag aus dem Buch berichten und dabei vor allem den Fokus darauf richt
 en\, wie wir uns von diesen falschen Grundannahmen befreien und ein nachha
 ltiges und menschengerechtes (Wirtschafts-)System aufbauen können.\nDie M
 oderation übernimmt Barbara von der Mark.\n\nWie bei jedem AKF-Herbsttref
 fen ist anschließend noch Gelegenheit zum gegenseitigen Kennenlernen und 
 Netzwerken.\nEintritt frei.\nUm Ameldung wird gebeten unter www.melanchtho
 n-akademie.de/programm/kursanmeldung/19453-die-verkannten-grundlagen-der-o
 ekonomie\n\nVeranstalterinnen:\n\n 	Arbeitskreis Kölner Frauenvereinigung
 en (AKF)\, Internet: www.akf-koeln.de\n 	Melanchthon-Akademie Köln\, Inte
 rnet: www.melanchthon-akademie.de\n\nAnsprechpartnerin:\nDr. Marita Alami\
 , Tel.: 0221 / 1397550\, E-Mail: info@akf-koeln.de
ATTACH;FMTTYPE=image/jpeg:https://internet-beratung-koeln.de/wp-content/up
 loads/sites/4/2023/05/fuer-facebook.png
LOCATION:Haus der Ev. Kirche\, Kartäusergasse 9\, 50678 Köln
GEO:50.924812;6.954403
X-APPLE-STRUCTURED-LOCATION;VALUE=URI;X-ADDRESS=Kartäusergasse 9\, Köln\,
  Nordrhein-Westfalen\, 50678\, Deutschland;X-APPLE-RADIUS=100;X-TITLE=Haus
  der Ev. Kirche:geo:50.924812,6.954403
END:VEVENT
BEGIN:VTIMEZONE
TZID:Europe/Berlin
X-LIC-LOCATION:Europe/Berlin
BEGIN:DAYLIGHT
DTSTART:20240331T030000
TZOFFSETFROM:+0100
TZOFFSETTO:+0200
TZNAME:CEST
END:DAYLIGHT
END:VTIMEZONE
END:VCALENDAR