BEGIN:VCALENDAR
VERSION:2.0
PRODID:-//wp-events-plugin.com//7.2.3.1//EN
TZID:Europe/Berlin
X-WR-TIMEZONE:Europe/Berlin
BEGIN:VEVENT
UID:0-539@internet-beratung-koeln.de
DTSTART;TZID=Europe/Berlin:20240416T193000
DTEND;TZID=Europe/Berlin:20240416T210000
DTSTAMP:20240222T160619Z
URL:https://internet-beratung-koeln.de/termine/digitale-gewalt-was-tun-geg
 en-kontrolle-zwang-und-bedrohungen-im-netz/
SUMMARY:Digitale Gewalt: Was tun gegen Kontrolle\, Zwang und Bedrohungen im
  Netz?
DESCRIPTION:Revenge Porn\, digitale Kontrolle\, Beschimpfungen und Bedrohun
 gen im Netz: die Digitalisierung hat viele neue Arten geschlechtsspezifisc
 her Gewalt möglich gemacht. Der Sammelbegriff dafür ist digitale Gewalt 
 – er umfasst eine Vielzahl unterschiedlicher Willkürakte\, die auf Hera
 bwürdigung\, Rufschädigung\, soziale Isolation\, Kontrolle sowie Erpress
 ung und Nötigung abzielen. Dafür bedienen sich die Täter*innen digitale
 r Hilfsmittel. Polizei und Gerichte sind auf diese Formen von Gewalttätig
 keit oft nur schlecht vorbereitet und auch Betroffene wissen sich häufig 
 nicht zu helfen.\n\nÜber Gefahren und Folgen digitaler Gewalt\, aber auch
  Möglichkeiten\, sich gegen sie zur Wehr zu setzen\, sprechen wir mit zwe
 i ausgewiesenen Expertinnen: Dr. Nicole Najemnik\, die als Digitalisierung
 sexpertin zu Ungleichheit und Hürden bei der Teilhabe im Netz und zur dig
 italen Gewalt gegen Frauen und Mädchen forscht\, sowie Corinna Dolezalek\
 , die für die Vernetzungsstelle gegen Hate Speech „Das Nettz“ Antifem
 inismus und Manosphäre im Internet beobachtet und als wissenschaftliche R
 eferentin das Förderprogramm „Demokratie im Netz“ begleitet.\n\nDie M
 oderation übernimmt Barbara von der Mark.\n\nWie bei jedem AKF-Frühjahrs
 treffen ist anschließend noch Gelegenheit zum gegenseitigen Kennenlernen 
 und Netzwerken.\n\nEintritt frei. Anmeldung erbeten unter www.melanchthon-
 akademie.de/programm/kursanmeldung/19047-digitale-gewalt\n\nVeranstalterin
 nen:\n\n 	Arbeitskreis Kölner Frauenvereinigungen (AKF)\, Internet: www.a
 kf-koeln.de\n 	Melanchthon-Akademie Köln\, Internet: www.melanchthon-akad
 emie.de\n\nAnsprechpartnerin:\nDr. Marita Alami\, Tel.: 0221 / 1397550\, E
 -Mail: info@akf-koeln.de
ATTACH;FMTTYPE=image/jpeg:https://internet-beratung-koeln.de/wp-content/up
 loads/sites/4/2023/11/Fearful-Face-Emoji.png
LOCATION:Evangelisches Jugendreferat Köln und Region\, Vor den Siebenburge
 n 2\, 50676 Köln
GEO:50.926031;6.95367
X-APPLE-STRUCTURED-LOCATION;VALUE=URI;X-ADDRESS=Vor den Siebenburgen 2\, K
 öln\, Nordrhein-Westfalen\, 50676\, Deutschland;X-APPLE-RADIUS=100;X-TITL
 E=Evangelisches Jugendreferat Köln und Region:geo:50.926031,6.95367
END:VEVENT
BEGIN:VTIMEZONE
TZID:Europe/Berlin
X-LIC-LOCATION:Europe/Berlin
BEGIN:DAYLIGHT
DTSTART:20240331T030000
TZOFFSETFROM:+0100
TZOFFSETTO:+0200
TZNAME:CEST
END:DAYLIGHT
END:VTIMEZONE
END:VCALENDAR