BEGIN:VCALENDAR
VERSION:2.0
PRODID:-//wp-events-plugin.com//7.2.3.1//EN
TZID:Europe/Berlin
X-WR-TIMEZONE:Europe/Berlin
BEGIN:VEVENT
UID:0-528@internet-beratung-koeln.de
DTSTART;TZID=Europe/Berlin:20230928T170000
DTEND;TZID=Europe/Berlin:20230928T200000
DTSTAMP:20230816T124151Z
URL:https://internet-beratung-koeln.de/termine/frauen-business-tag-der-ihk
 /
SUMMARY:Frauen-Business-Tag der IHK
DESCRIPTION:“Hürden überwinden!”\n\nUnter diesem Motto steht der dies
 jährige Frauen-Business-Tag in der IHK Köln. Mit dabei ist Heike Henkel\
 , die als Weltmeisterin und Olympiasiegerin nicht nur im Sport viele Hürd
 en übersprungen hat. Sie wird ihr Erfolgsrezept verraten. Außerdem beric
 hten erfolgreiche Frauen aus Wirtschaft und Politik\, welche Hürden es au
 f ihrem Weg nach oben gab – und wie es ihnen gelungen ist\, diese zu üb
 erwinden.\n\nIm Anschluss an das Programm wird zu Snacks\, Getränken &amp
 \; Networking eingeladen. Wieder mit dabei: Unternehmerinnen- und Wirtscha
 ftsverbände\, die sich im Börsensaal und im Foyer vorstellen.\n\nDies is
 t das Programm:\n\n17.00 Uhr – Grußwort\nDr. Nicole Grünewald\, Präsi
 dentin der IHK Köln\n\n17.10 Uhr – Begrüßung &amp\; Moderation\nClaud
 ia Schall\, Chefredakteurin Radio Köln\n\n17.15 Uhr – Keynote: „Hürd
 en überwinden! Mit Motivation und mentaler Stärke hohe Ziele erreichen
 “\nHeike Henkel\, Europameisterin\, Weltmeisterin und Olympiasiegerin im
  Hochsprung\n\n17.45 Uhr – Podiumsgespräch und Interviews mit:\n\n 	Cla
 udia Zimmer\, Vorständin Delphin Technology AG\n 	Nina Luig\, Geschäftsf
 ührerin Köln-Düsseldorfer Deutsche Rheinschiffahrt GmbH\n 	Anna Heller\
 , Geschäftsführerin Hellers Brauhaus\n 	Lena Teschlade\, MdL SPD-Fraktio
 n\n 	Berivan Aymaz\, MdL\, Vizepräsidentin des Landtags NRW\, Fraktion B
 ündnis 90/Die Grünen\n 	Teresa De Bellis-Olinger\, MdR\, Vorsitzende des
  Ausschusses für die Gleichstellung von Frauen und Männern\, CDU-Fraktio
 n\n\n18.30 Uhr – Get-Together &amp\; ‘Markt der Möglichkeiten’ mit 
 Snacks &amp\; Networking\n\nVeranstalterin:\nIndustrie- und Handelskammer 
 zu Köln\, www.ihk-koeln.de\n\nKosten / Anmeldung:\nEinlass: 16.30 Uhr\, d
 er Eintritt ist frei.\nFür Kinderbetreuung (&gt\;2 Jahre) ist vor Ort ges
 orgt.\nUm Anmeldung wird gebeten unter https://eventanmeldung.ihk-koeln.de
 /fbt-2023
ATTACH;FMTTYPE=image/jpeg:https://internet-beratung-koeln.de/wp-content/up
 loads/sites/4/2023/08/fbt-2023.jpg
LOCATION:IHK Köln\, Unter Sachsenhausen 10-26\, 50667 Köln
GEO:50.942776;6.951071
X-APPLE-STRUCTURED-LOCATION;VALUE=URI;X-ADDRESS=Unter Sachsenhausen 10-26\,
  Köln\, 50667\, Deutschland;X-APPLE-RADIUS=100;X-TITLE=IHK Köln:geo:50.9
 42776,6.951071
END:VEVENT
BEGIN:VTIMEZONE
TZID:Europe/Berlin
X-LIC-LOCATION:Europe/Berlin
BEGIN:DAYLIGHT
DTSTART:20230326T030000
TZOFFSETFROM:+0100
TZOFFSETTO:+0200
TZNAME:CEST
END:DAYLIGHT
END:VTIMEZONE
END:VCALENDAR