BEGIN:VCALENDAR
VERSION:2.0
PRODID:-//wp-events-plugin.com//7.2.3.1//EN
TZID:Europe/Berlin
X-WR-TIMEZONE:Europe/Berlin
BEGIN:VEVENT
UID:0-384@internet-beratung-koeln.de
DTSTART;TZID=Europe/Berlin:20190321T163000
DTEND;TZID=Europe/Berlin:20190321T203000
DTSTAMP:20190201T093750Z
URL:https://internet-beratung-koeln.de/termine/speed-dating-mit-vorbild-un
 ternehmerinnen/
SUMMARY:Speed-Dating mit Vorbildunternehmerinnen
DESCRIPTION:Weiblich – Kreativ – Motiviert – Welchen Einfluss hat der
  digitale Wandel auf (potenzielle) Unternehmerinnen?\n\nPodiumsdiskussion\
 , Speed-Dating mit Vorbildunternehmerinnen in vier Runden à 20 Minuten un
 d anschließendem Get together / Imbiss in Düsseldorf.
ATTACH;FMTTYPE=image/jpeg:https://internet-beratung-koeln.de/wp-content/up
 loads/sites/4/2019/01/logo.png
LOCATION:Ministerium für Kinder\, Familie\, Flüchtlinge und Integration d
 es Landes NRW\, Haroldstr. 4\, 40213 Düsseldorf
GEO:51.219442;6.769426
X-APPLE-STRUCTURED-LOCATION;VALUE=URI;X-ADDRESS=Haroldstr. 4\, Düsseldorf\
 , 40213\, Deutschland;X-APPLE-RADIUS=100;X-TITLE=Ministerium für Kinder\,
  Familie\, Flüchtlinge und Integration des Landes NRW:geo:51.219442,6.769
 426
END:VEVENT
BEGIN:VTIMEZONE
TZID:Europe/Berlin
X-LIC-LOCATION:Europe/Berlin
BEGIN:STANDARD
DTSTART:20181028T020000
TZOFFSETFROM:+0200
TZOFFSETTO:+0100
TZNAME:CET
END:STANDARD
END:VTIMEZONE
END:VCALENDAR