BEGIN:VCALENDAR
VERSION:2.0
PRODID:-//wp-events-plugin.com//7.2.3.1//EN
TZID:Europe/Berlin
X-WR-TIMEZONE:Europe/Berlin
BEGIN:VEVENT
UID:0-546@internet-beratung-koeln.de
DTSTART;TZID=Europe/Berlin:20240611T160000
DTEND;TZID=Europe/Berlin:20240611T193000
DTSTAMP:20240403T210835Z
URL:https://internet-beratung-koeln.de/termine/unternehmerinnen-roulette-m
 it-vorbild-unternehmerinnen/
SUMMARY:Unternehmerinnen-Roulette mit Vorbild-Unternehmerinnen
DESCRIPTION:– weiblich-innovativ-erfolgreich – Von Vorbild-Unternehmeri
 nnen lernen –\n\nAb 18 Uhr:\n“Was Du eine Unternehmerin schon immer fr
 agen wolltest…”\nKleingruppengespräche (jeweils maximal vier Frauen) 
 mit mindestens drei der fünfzehn anwesenden Vorbild-Unter&shy\;neh&shy\;m
 er&shy\;in&shy\;nen. Alle Fragen sind erlaubt. Egal ob es um Werdegang\, U
 nternehmensführung oder Work-Life-Balance geht. Bereits bei der Anmeldung
  wird die Roulettekugel auf die eigene „Wunsch-Unternehmerin“ gesetzt.
  Die anderen beiden Vorbild- Unternehmerinnen bestimmt der Zufall.\n\nHier
  ist die Einladung: Unternehmerinnen-Roulette mit Vorbildunternehmerinnen 
 (pdf-Datei\, 3 MB)\n\nEintritt frei\, Anmeldung erforderlich unter https:/
 /www.prospektiv.de/roulette/\n\nVeranstalterinnen:\nKölner Vorbildunterne
 hmerinnen der Initiative „FRAUEN unternehmen“ des Bundesministeriums f
 ür Wirtschaft und Energie (frauen-unternehmen-initiative.de\, www.vorbild
 unternehmerinnen-koeln.de) in Kooperation mit der NRW.BANK\, www.nrwbank.d
 e
ATTACH;FMTTYPE=image/jpeg:https://internet-beratung-koeln.de/wp-content/up
 loads/sites/4/2024/04/Unternehmerinnen-Roulette.jpg
LOCATION:NRW.BANK\, Kavalleriestr. 22\, 40213 Düsseldorf
GEO:51.217314;6.770786
X-APPLE-STRUCTURED-LOCATION;VALUE=URI;X-ADDRESS=Kavalleriestr. 22\, Düssel
 dorf\, Nordrhein-Westfalen\, 40213\, Deutschland;X-APPLE-RADIUS=100;X-TITL
 E=NRW.BANK:geo:51.217314,6.770786
END:VEVENT
BEGIN:VTIMEZONE
TZID:Europe/Berlin
X-LIC-LOCATION:Europe/Berlin
BEGIN:DAYLIGHT
DTSTART:20240331T030000
TZOFFSETFROM:+0100
TZOFFSETTO:+0200
TZNAME:CEST
END:DAYLIGHT
END:VTIMEZONE
END:VCALENDAR